BEGIN:VCALENDAR
VERSION:2.0
PRODID:-//BARBER&#039;S SCIENCE - ECPv6.0.2//NONSGML v1.0//EN
CALSCALE:GREGORIAN
METHOD:PUBLISH
X-ORIGINAL-URL:http://www.barbersscience.es
X-WR-CALDESC:Eventos para BARBER&#039;S SCIENCE
REFRESH-INTERVAL;VALUE=DURATION:PT1H
X-Robots-Tag:noindex
X-PUBLISHED-TTL:PT1H
BEGIN:VTIMEZONE
TZID:Europe/Madrid
BEGIN:DAYLIGHT
TZOFFSETFROM:+0100
TZOFFSETTO:+0200
TZNAME:CEST
DTSTART:20210328T010000
END:DAYLIGHT
BEGIN:STANDARD
TZOFFSETFROM:+0200
TZOFFSETTO:+0100
TZNAME:CET
DTSTART:20211031T010000
END:STANDARD
BEGIN:DAYLIGHT
TZOFFSETFROM:+0100
TZOFFSETTO:+0200
TZNAME:CEST
DTSTART:20220327T010000
END:DAYLIGHT
BEGIN:STANDARD
TZOFFSETFROM:+0200
TZOFFSETTO:+0100
TZNAME:CET
DTSTART:20221030T010000
END:STANDARD
END:VTIMEZONE
BEGIN:VEVENT
DTSTART;TZID=Europe/Madrid:20211112T193000
DTEND;TZID=Europe/Madrid:20211112T200000
DTSTAMP:20260423T182641
CREATED:20210805T073420Z
LAST-MODIFIED:20211111T131447Z
UID:268-1636745400-1636747200@www.barbersscience.es
SUMMARY:Barber's Science
DESCRIPTION:J.M.MULET + BARBER´S SCIENCE \n\n\n\nEcologismo real: ciencia para conservar el planeta\n\n\n\nViernes\, 12 de noviembre\, a las 19:30h
URL:http://www.barbersscience.es/event/barbers-science/
ATTACH;FMTTYPE=image/jpeg:http://www.barbersscience.es/wp-content/uploads/sites/2/2021/11/FD5_fShXoAETt_t.jpeg
END:VEVENT
BEGIN:VEVENT
DTSTART;TZID=Europe/Madrid:20220514T110000
DTEND;TZID=Europe/Madrid:20220514T170000
DTSTAMP:20260423T182641
CREATED:20220428T081830Z
LAST-MODIFIED:20220428T081831Z
UID:287-1652526000-1652547600@www.barbersscience.es
SUMMARY:Feria de la Ciencia en el Parque de las Ciencias
DESCRIPTION:Animación en el marco de la Feria de la Ciencia del Parque de las Ciencias de Granada.  \n\n\n\nActuaciones:  \n\n\n\n11.00: Vestíbulo \n\n\n\n13:30: Junto a máquina de vapor \n\n\n\n17:00: Junto a máquina de vapor
URL:http://www.barbersscience.es/event/feria-de-la-ciencia-en-el-parque-de-las-ciencias/
LOCATION:Parque de las Ciencias de Granada\, Av. de la Ciencia\, s/n\, Granada\, 18006\, España
END:VEVENT
END:VCALENDAR